BEGIN:VCALENDAR
VERSION:2.0
PRODID:-//Dante Alighieri Amsterdam - Italiaanse taal en cultuur in Amsterdam - ECPv6.8.3//NONSGML v1.0//EN
CALSCALE:GREGORIAN
METHOD:PUBLISH
X-ORIGINAL-URL:https://www.danteamsterdam.nl
X-WR-CALDESC:Evenementen voor Dante Alighieri Amsterdam - Italiaanse taal en cultuur in Amsterdam
REFRESH-INTERVAL;VALUE=DURATION:PT1H
X-Robots-Tag:noindex
X-PUBLISHED-TTL:PT1H
BEGIN:VTIMEZONE
TZID:Europe/Amsterdam
BEGIN:DAYLIGHT
TZOFFSETFROM:+0100
TZOFFSETTO:+0200
TZNAME:CEST
DTSTART:20200329T010000
END:DAYLIGHT
BEGIN:STANDARD
TZOFFSETFROM:+0200
TZOFFSETTO:+0100
TZNAME:CET
DTSTART:20201025T010000
END:STANDARD
END:VTIMEZONE
BEGIN:VEVENT
DTSTART;TZID=Europe/Amsterdam:20201201T101500
DTEND;TZID=Europe/Amsterdam:20201201T110000
DTSTAMP:20260423T044421
CREATED:20201129T184212Z
LAST-MODIFIED:20201129T184212Z
UID:939-1606817700-1606820400@www.danteamsterdam.nl
SUMMARY:Online lezing ~  Movimenti dell'Italiano contemporaneo  door Pierluigi Ortolano
DESCRIPTION:De lezing Movimenti dell’Italiano contemporaneo wordt georganiseerd door het departement Italiaanse taal en cultuur aan de Universiteit van Leiden\, in samenwerking met het Leiden University Centre for Linguistics en de Werkgroep Italië Studies (WIS). Dr. Pierluigi Ortolano is onderzoeker Italiaanse taalkunde aan de afdeling Letteren\, kunsten en sociale wetenschappen van de Università di Chieti-Pescara. \n \n\nOver WIS\nDe Werkgroep Italië Studies werd in 1985 als de vereniging van academici die zich in Nederland en Vlaanderen met de bestudering van Italië bezig houden opgericht. De vereniging telt ongeveer 200 leden. De Werkgroep stelt zich ten doel onderzoek en onderwijs in de Lage Landen op het gebied van de Italiaanse taal en letterkunde\, geschiedenis en wijsbegeerte\, kunstgeschiedenis en archeologie te stimuleren en te coördineren. \n \nDe werkgroep geeft tevens een wetenschappelijk tijdschrift Incontri. Rivista europea di studi italiani uit. Het tijdschrift verschijnt tweemaal per jaar (in juni en december) en zijn digitaal beschikbaar. Voor meer informatie over de werkgroep en het tijdschrift kijkt u op: https://sites.google.com/site/werkgroepitaliestudies/\n\n\nDe lezing zal in het Italiaans worden gehouden. \n\nVoor aanmelding en meer informatie over de lezing stuurt u een e-mail naar Claudio di Felice: c.di.felice@hum.leidenuniv.nl
URL:https://www.danteamsterdam.nl/event/online-lezing-movimenti-dellitaliano-contemporaneo-door-pierluigi-ortolano/
CATEGORIES:Lezing Italiaans
END:VEVENT
END:VCALENDAR