BEGIN:VCALENDAR
VERSION:2.0
PRODID:-//Dante Alighieri Amsterdam - Italiaanse taal en cultuur in Amsterdam - ECPv6.8.3//NONSGML v1.0//EN
CALSCALE:GREGORIAN
METHOD:PUBLISH
X-WR-CALNAME:Dante Alighieri Amsterdam - Italiaanse taal en cultuur in Amsterdam
X-ORIGINAL-URL:https://www.danteamsterdam.nl
X-WR-CALDESC:Evenementen voor Dante Alighieri Amsterdam - Italiaanse taal en cultuur in Amsterdam
REFRESH-INTERVAL;VALUE=DURATION:PT1H
X-Robots-Tag:noindex
X-PUBLISHED-TTL:PT1H
BEGIN:VTIMEZONE
TZID:Europe/Amsterdam
BEGIN:DAYLIGHT
TZOFFSETFROM:+0100
TZOFFSETTO:+0200
TZNAME:CEST
DTSTART:20210328T010000
END:DAYLIGHT
BEGIN:STANDARD
TZOFFSETFROM:+0200
TZOFFSETTO:+0100
TZNAME:CET
DTSTART:20211031T010000
END:STANDARD
END:VTIMEZONE
BEGIN:VEVENT
DTSTART;TZID=Europe/Amsterdam:20210309T201500
DTEND;TZID=Europe/Amsterdam:20210309T223000
DTSTAMP:20260423T002528
CREATED:20201212T160120Z
LAST-MODIFIED:20210126T165356Z
UID:958-1615320900-1615329000@www.danteamsterdam.nl
SUMMARY:Andrea Perugini ~ Organismi multilaterali in Olanda: un punto di vista italiano
DESCRIPTION:L’Aja ospita da tempo numerosi organismi multilaterali\, ma rappresenta una realtà meno conosciuta rispetto a New York\, Ginevra\, Vienna od anche Londra o Parigi. Nei Paesi Bassi\, concentrate primariamente a L’Aja\, operano\, secondo il sito ufficiale del Ministero degli Affari Esteri olandese\, oltre 34 tra Corti e Tribunali Internazionali\, organismi multilaterali\, agenzie europee\, basi e strutture Nato ed uffici delle Nazioni Unite. Ciò corrisponde alla strategia del Governo olandese di attrarre nei Paesi Bassi organismi principalmente votati alla promozione dell’ordine legale internazionale e dello stato di diritto. Nella presentazione si prenderanno in esame quelli che\, per numero e ruolo\, ospitano le più rappresentative e qualificate presenze di funzionari italiani\, segnatamente: l’ESTEC\, quale sede distaccata dell’Agenzia Spaziale Europea; la sede olandese di EPO (Ufficio Europeo dei Brevetti); la Corte Penale Internazionale; le Agenzie europee di Europol ed Eurojust\, nonché’ l’OPAC (Organizzazione per la Proibizione delle Armi Chimiche). Da questa presentazione si tireranno delle linee di conclusione e dei suggerimenti di policy per meglio valorizzare nell’interesse italiano la presenza delle risorse umane italiane in questi organismi. \nAndrea Perugini era coordinatore del governo italiano per il processo di elezione del Procuratore della Corte Penale internazionale. Fino al primo novembre 2020 è stato Ambasciatore d’Italia nei Paesi Bassi e Rappresentante permanente presso l’OPAC. È stato Presidente del Consiglio Esecutivo dell’OPAC ed è stato anche nominato Campione Internazionale di Genere per l’Italia. In precedenza è stato Direttore principale per l’Asia presso il Ministero degli Affari Esteri italiano\, Senior Official Leader italiano per i vertici di Vientiane del 2012 e di Milano ASEM 2014 e per il processo UE-ASEAN. Ha servito come Ambasciatore in Vietnam\, Consigliere politico presso la Rappresentanza d’Italia all’OCSE a Parigi; Capo della Sezione Economica dell’Ambasciata d’Italia in Cina; Primo Segretario presso la Rappresentanza d’Italia all’ONU a Ginevra (Conferenza per il Disarmo) e il suo primo incarico è stato Luanda (Angola). \nN.B. Deze lezing wordt in het Italiaans gegeven \nN.B. Voorafgaand aan de lezing vindt de jaarlijkse Assemblea Generale plaats. De jaarvergadering vangt aan om 19.30 uur. \nN.B. Deze lezing wordt via Zoom gegeven. Leden van Dante Amsterdam ontvangen een link per e-mail voor deelname.
URL:https://www.danteamsterdam.nl/event/andrea-perugini-organismi-multilaterali-in-olanda-un-punto-di-vista-italiano/
LOCATION:ZOOM
CATEGORIES:Lezing Italiaans
END:VEVENT
END:VCALENDAR