BEGIN:VCALENDAR
VERSION:2.0
PRODID:-//Dante Alighieri Amsterdam - Italiaanse taal en cultuur in Amsterdam - ECPv6.8.3//NONSGML v1.0//EN
CALSCALE:GREGORIAN
METHOD:PUBLISH
X-ORIGINAL-URL:https://www.danteamsterdam.nl
X-WR-CALDESC:Evenementen voor Dante Alighieri Amsterdam - Italiaanse taal en cultuur in Amsterdam
REFRESH-INTERVAL;VALUE=DURATION:PT1H
X-Robots-Tag:noindex
X-PUBLISHED-TTL:PT1H
BEGIN:VTIMEZONE
TZID:Europe/Amsterdam
BEGIN:DAYLIGHT
TZOFFSETFROM:+0100
TZOFFSETTO:+0200
TZNAME:CEST
DTSTART:20220327T010000
END:DAYLIGHT
BEGIN:STANDARD
TZOFFSETFROM:+0200
TZOFFSETTO:+0100
TZNAME:CET
DTSTART:20221030T010000
END:STANDARD
END:VTIMEZONE
BEGIN:VEVENT
DTSTART;TZID=Europe/Amsterdam:20220623T201500
DTEND;TZID=Europe/Amsterdam:20220623T220000
DTSTAMP:20260422T020827
CREATED:20211227T140208Z
LAST-MODIFIED:20220428T065536Z
UID:1063-1656015300-1656021600@www.danteamsterdam.nl
SUMMARY:Lezing ~ Daniela Tasca: La dolce invasione 100 anni di gelato in Olanda
DESCRIPTION:La conferenza racconta\, attraverso foto e documenti storici da archivi pubblici e privati\, l’epopea dei gelatieri italiani in Olanda\, iniziata negli anni Venti del Novecento. Le prime gelaterie italiane in Olanda furono aperte negli anni ’20 del secolo scorso\, in seguito a una lenta espansione prima in Austria e poi in Germania. I primi gelatieri provenivano dalle valli dell’Alto Veneto\, zona di grande tradizione nell’arte del gelato. Ma ben presto ai veneti seguirono altri connazionali toscani\, originariamente figuristi (fabbricanti di statuine di gesso\, beeldjesmakers)\, che negli anni della crisi degli anni ’30 si videro costretti a cambiar mestiere. Da allora la gelateria italiana (Italiaanse ijssalon) è un luogo e un concetto ormai appartenente al patrimonio culturale olandese\, come testimonia la recente apertura della gelateria Venezia presso l’Openluchtmuseum. La conferenza è costruita su foto d’epoca e documenti storici\, come ad esempio annunci commerciali e articoli di giornale. Gran parte del materiale è inedito\, proveniente da archivi pubblici e privati. La storia si snoda lungo tre fasi nell’insediamento dei gelatieri italiani. La prima\, che va dagli inizi fino alla Seconda Guerra Mondiale\, racconta l’arrivo in Olanda\, i primi carretti e le prime gelaterie\, e i difficili anni della crisi e della guerra. La seconda fase descrive la ricostruzione del dopoguerra e il periodo d’oro degli anni ’50 e ’60\, con il lavoro delle seconde e terze generazioni. Segue\, infine\, il periodo attuale\, caratterizzato dalla crescente concorrenza dei gelatieri ‘olandesi’ e dalla necessità di rinnovarsi in una nuova situazione di crisi economica. \nDaniela Tasca\, regista e scrittrice\, vive in Olanda dal 1989. Dal 2006 si occupa di storia italiana nei Paesi Bassi e dal 2010 è direttrice artistica del progetto multimediale 1001 Italianen per conto della Fondazione Culturissima di Amsterdam. Lo scopo del progetto è quello di documentare e promuovere la storia italiana in Olanda attraverso pubblicazioni\, documentari\, mostre e conferenze. Nel 2016 Singel Uitgeverijen pubblica il suo libro 1001 Italianen. Vijf eeuwen immigratie in de Nederlanden. \nN.B. Deze lezing wordt in het Italiaans gegeven.
URL:https://www.danteamsterdam.nl/event/lezing-daniela-tasca-la-dolce-invasione-100-anni-di-gelato-in-olanda/
LOCATION:Het Amsterdams Lyceum\, Valeriusplein 15\, Amsterdam\, 1075 BJ
CATEGORIES:Lezing Italiaans
END:VEVENT
END:VCALENDAR