BEGIN:VCALENDAR
VERSION:2.0
PRODID:-//Dante Alighieri Amsterdam - Italiaanse taal en cultuur in Amsterdam - ECPv6.8.3//NONSGML v1.0//EN
CALSCALE:GREGORIAN
METHOD:PUBLISH
X-ORIGINAL-URL:https://www.danteamsterdam.nl
X-WR-CALDESC:Evenementen voor Dante Alighieri Amsterdam - Italiaanse taal en cultuur in Amsterdam
REFRESH-INTERVAL;VALUE=DURATION:PT1H
X-Robots-Tag:noindex
X-PUBLISHED-TTL:PT1H
BEGIN:VTIMEZONE
TZID:Europe/Amsterdam
BEGIN:DAYLIGHT
TZOFFSETFROM:+0100
TZOFFSETTO:+0200
TZNAME:CEST
DTSTART:20240331T010000
END:DAYLIGHT
BEGIN:STANDARD
TZOFFSETFROM:+0200
TZOFFSETTO:+0100
TZNAME:CET
DTSTART:20241027T010000
END:STANDARD
END:VTIMEZONE
BEGIN:VEVENT
DTSTART;TZID=Europe/Amsterdam:20241016T200000
DTEND;TZID=Europe/Amsterdam:20241016T223000
DTSTAMP:20260422T065326
CREATED:20240731T203458Z
LAST-MODIFIED:20240806T160156Z
UID:1349-1729108800-1729117800@www.danteamsterdam.nl
SUMMARY:Lezing: Commedia dell’Arte door Frans Krom
DESCRIPTION:In het begin van de 15e eeuw ontstaat in het arme en verdeelde Italië een vorm van theater die in korte tijd ongekend populair wordt en ruim twee eeuwen het Europees theater domineert: de Commedia dell’Arte. De speelstijl van de Commedia was grotesk\, fysiek en met maskers. Dat was eigenlijk heel ongebruikelijk. De geheel eigenzinnige manier van theater die hierdoor ontstond was niet te vergelijken met enige andere vorm van theater. Het maskertheater was een theatrale reactie op de samenleving van toen. Acteurs vochten zich los uit het elitaire paleistheater en richtten zich op straat tot het volk. Toespelingen op actuele gebeurtenissen en personen vormden de basis. Met thema’s als geld\, eten en huwelijkse problemen stond de Commedia dicht bij de gewone mensen. \nFrans Krom is masker- en theatermaker uit Amersfoort. Hij heeft zich verdiept in het maskertheater van de Commedia dell’Arte door studies te volgen: bij Antonio Fava uit Reggio Emilia leerde hij de theorie en spel van de Commedia dell’Arte en bij Donato Sartori uit Padua het maken van traditionele leren maskers van de Commedia. De lezing zal dan ook een theatraal karakter hebben en de spreker zal zijn verhaal illustreren met live uitgevoerde demonstraties.
URL:https://www.danteamsterdam.nl/event/lezing-commedia-dellarte-door-frans-krom/
LOCATION:Het Amsterdams Lyceum\, Valeriusplein 15\, Amsterdam\, 1075 BJ
CATEGORIES:Lezing Nederlands
END:VEVENT
END:VCALENDAR